BEGIN:VCALENDAR
VERSION:2.0
PRODID:-//wp-events-plugin.com//7.2.3.1//EN
TZID:Europe/Helsinki
X-WR-TIMEZONE:Europe/Helsinki
BEGIN:VEVENT
UID:178@petpet.fi
DTSTART;TZID=Europe/Helsinki:20240504T163000
DTEND;TZID=Europe/Helsinki:20240504T170000
DTSTAMP:20240414T190554Z
URL:https://petpet.fi/events/2065/
SUMMARY:-
DESCRIPTION:
CATEGORIES:Kyläseppä Cup lauantai
LOCATION:Petäjäveden tekonurmi B\, Miilutie 1\, Petäjävesi\, 41900\, Su
 omi
X-APPLE-STRUCTURED-LOCATION;VALUE=URI;X-ADDRESS=Miilutie 1\, Petäjävesi\,
  41900\, Suomi;X-APPLE-RADIUS=100;X-TITLE=Petäjäveden tekonurmi B:geo:0,
 0
END:VEVENT
BEGIN:VTIMEZONE
TZID:Europe/Helsinki
X-LIC-LOCATION:Europe/Helsinki
BEGIN:DAYLIGHT
DTSTART:20240331T040000
TZOFFSETFROM:+0200
TZOFFSETTO:+0300
TZNAME:EEST
END:DAYLIGHT
END:VTIMEZONE
END:VCALENDAR