BEGIN:VCALENDAR
VERSION:2.0
PRODID:-//wp-events-plugin.com//7.2.3.1//EN
TZID:Europe/Helsinki
X-WR-TIMEZONE:Europe/Helsinki
BEGIN:VEVENT
UID:470@petpet.fi
DTSTART;TZID=Europe/Helsinki:20260422T000000
DTEND;TZID=Europe/Helsinki:20260428T000000
DTSTAMP:20260420T111300Z
URL:https://petpet.fi/events/kuntorastit-halkokankaalla-lahdesillanmaen-ma
 astossa-22-28-4/
SUMMARY:Kuntorastit Halkokankaalla Lähdesillanmäen maastossa 22.-28.4.
DESCRIPTION:Halkokankaan maastoon on tehty kaksi rataa 4\,1 km ja 2\,0 km. 
 Lähtöpaikka Halkokankaantien päässä.\n\nKartat  halko.Rata 1\, halko
 .Rata 2 ja halko_All\n\n\nTulostettuja ratakarttoja on Petäjävesi -lehde
 n toimiston ulko-ovessa Asematie 6. Rastit ovat mastossa 14.5. asti. Kartt
 amaksu 3 €/kartta Petäjäisten tilille FI24 5339 0820 0362 19.\nKeskivi
 ikkona 22.4. Klo 17.30–19.00 ratamestari on lähtöpaikalla\, jolloin ka
 rttoja saa myös lähdöstä.\nLähdössä on mahdollisuus saada opastusta
  suunnistamiseen.\n\n\n
CATEGORIES:Kuntorastit,Suunnistus,Yleisötapahtumat
LOCATION:Halkokangas (maasto)\, Halkokankaantie\, Petäjävesi\, Suomi
X-APPLE-STRUCTURED-LOCATION;VALUE=URI;X-ADDRESS=Halkokankaantie\, Petäjäv
 esi\, Suomi;X-APPLE-RADIUS=100;X-TITLE=Halkokangas (maasto):geo:0,0
END:VEVENT
BEGIN:VTIMEZONE
TZID:Europe/Helsinki
X-LIC-LOCATION:Europe/Helsinki
BEGIN:DAYLIGHT
DTSTART:20260329T040000
TZOFFSETFROM:+0200
TZOFFSETTO:+0300
TZNAME:EEST
END:DAYLIGHT
END:VTIMEZONE
END:VCALENDAR