BEGIN:VCALENDAR
VERSION:2.0
PRODID:-//wp-events-plugin.com//7.2.3.1//EN
TZID:Europe/Helsinki
X-WR-TIMEZONE:Europe/Helsinki
BEGIN:VEVENT
UID:469@petpet.fi
DTSTART;TZID=Europe/Helsinki:20260527T173000
DTEND;TZID=Europe/Helsinki:20260527T183000
DTSTAMP:20260418T181115Z
URL:https://petpet.fi/events/pojat-11-keupa-petpet-yj-pari/
SUMMARY:Pojat 11 KeuPa/PetPet YJ - PaRi
DESCRIPTION:
CATEGORIES:Juniorit,Yleisötapahtumat
LOCATION:Petäjäveden tekonurmi A\, Miilutie 1\, Petäjävesi\, 41900\, Su
 omi
X-APPLE-STRUCTURED-LOCATION;VALUE=URI;X-ADDRESS=Miilutie 1\, Petäjävesi\,
  41900\, Suomi;X-APPLE-RADIUS=100;X-TITLE=Petäjäveden tekonurmi A:geo:0,
 0
END:VEVENT
BEGIN:VTIMEZONE
TZID:Europe/Helsinki
X-LIC-LOCATION:Europe/Helsinki
BEGIN:DAYLIGHT
DTSTART:20260329T040000
TZOFFSETFROM:+0200
TZOFFSETTO:+0300
TZNAME:EEST
END:DAYLIGHT
END:VTIMEZONE
END:VCALENDAR